Workbook

Sheet Information générales
A1: Aide au travail pour le recensement et l'évaluation de paramètres biologiques du sol (VBBio/BioSA (Hrsg.), 2025) | I1: Traduction avec DeepL de l'allemand vers le français
I2: Version 1, 14.03.2025
A3: Critères pour les données de mesure
A4: Corg: | B4: carbone organique mesuré avec la méthode FAL, unité % en poids, ou mesuré avec CN Analyzer et converti en valeurs FAL selon Gubler et al. (2018) avec un facteur de 1.18 pour les sols suisses (CN-Analyzer/1.18 = FAL).
A5: Argil: | B5: Argile + Limon + Sable + Humus = 100%, méthode FAL
A6: Sable: | B6: Argile + Limon + Sable + Humus = 100%, méthode FAL
A7: pH | B7: pH mesuré en CaCl2
A8: RB | B8: Respiration basale, FAL, soit en mg CO2-C kg-1 MS h-1 ou mg CO2 kg-1 MS 24 h-1
A9: BM FE-C | B9: Biomasse microbienne (méthode d'extraction par fumigation), unité de mesure mg kg-1
A11: Litérature
A12: VBBio/BSA (Hrsg.) 2025 | B12: Aide au travail pour le recensement et l'évaluation de paramètres biologiques du sol
A13: Hug et al. 2023 | B13: Herleitung von Referenzwerten für die mikrobielle Biomasse und Basalatmung an Graslandstandorten. Nationale Bodenbeobachtung NABO.
A14: Hug et al. 2021 | B14: Monitoring Bodenbiologie. Auswertung bodenmikrobiologischer Daten von kantonalen und nationalen Bodenbeobachtungsstandorten. Agroscope Science, 110, 1-35.
A15: Gubler et al. 2018 | B15: Homogenisierung von Bodenkohlenstoff-Daten: Harmonisierung der Resultate aus Nassoxidation (FAL-Methode) und Trockenveraschung. Agroscope Science, 62, 1-9.
A16: Oberholzer et al. 1999 | B16: Evaluation of soil quality by means of microbiological parameters related to the characteristics of individual arable sites. Agribiol. Res. 52, 2, 113-125.
A17: VBB 2009 | B17: Arbeitshilfe zur Anwendung und Interpretation bodenbiologischer Parameter.

Sheet Terre assolée 0-20cm
A1: Aide au travail pour le recensement et l'évaluation de paramètres biologiques du sol (VBBio/BioSA (Hrsg.), 2025) | J1: Version 1, 14.03.2025
A2: Entrée de données | F2: Valeur Respiration basale soit ou | J2: Calculs | L2: SC = Seuil de confiance | Y2: RB= Respiration basale; FE-C = biomasse microbienne (méthode d'extraction par fumigation)
A3: Terre assolée désignation de l'échantillon | B3: Corg (pois %, méthode FAL) | C3: pH (CaCl2) | D3: Argile (%) | E3: Sable (%) | F3: Respiration basale (mg CO2-C kg-1 MS h-1) | G3: Respiration basale (mg CO2 kg-1 MS 24h-1) | H3: Biomasse microbienne fumigation (mg kg-1) | J3: Respiration basale (mg CO2-C kg-1 MS h-1) | K3: Respiration basale calculée | L3: Respiration basale SC inférieur 95% | M3: Respiration basale SC inférieur 67% | N3: Respiration basale SC supérieur 67% | O3: Respiration basale SC supérieur 95% | P3: Évaluation de la respiration basale | R3: Biomasse microbienne calculée | S3: Biomasse mic. SC inférieur 95% | T3: Biomasse mic. SC inférieur 67% | U3: Biomasse mic. SC supérieur 67% | V3: Biomasse mic. SC supérieur 95% | W3: Évaluation de la biomasse mic. | Y3: Indicateur d'état Q-RB | Z3: Évaluation RB | AA3: Indicateur d'état Q-FE-C | AB3: Évaluation FE-C | AD3: Quotient métabolique qCO2 (RB/FE-C Fumigation) CO2-C /Cmic [mg/g/h)] | AE3: Cmik:Corg [mg/g]
J4: =IF($G4>0,($G4/24)/(44/12),$F4) -> 0 | K4: =ROUND((EXP(LN('Terre assolée 0-20cm'!$B4)*'Valeur de calcul'!$B$4+'Terre assolée 0-20cm'!$C4*'Valeur de calcul'!$B$5+LN('Terre assolée 0-20cm'!$D4)*'Valeur de calcul'!$B$6+'Terre assolée 0-20cm'!$E4*'Valeur de calcul'!$B$7+'Valeur de calcul'!$B$3)/24)/(44/12),3) -> #NUM! | L4: =ROUND(EXP(LN($K4)-2*'Valeur de calcul'!$B$8),3) -> #NUM! | M4: =ROUND(EXP(LN($K4)-'Valeur de calcul'!$B$8),3) -> #NUM! | N4: =ROUND(EXP(LN($K4)+'Valeur de calcul'!$B$8),3) -> #NUM! | O4: =ROUND(EXP(LN($K4)+2*'Valeur de calcul'!$B$8),3) -> #NUM! | P4: =IF($J4=0," ",IF($J4<$L4,"très basse",IF($J4<$M4,"basse",IF($J4>$O4,"très élevée",IF($J4>$N4,"élevée","normal"))))) | R4: =ROUND(EXP((LN($B4)*'Valeur de calcul'!$C$4)+('Terre assolée 0-20cm'!$C4*'Valeur de calcul'!$C$5)+(LN('Terre assolée 0-20cm'!$D4)*'Valeur de calcul'!$C$6)+('Terre assolée 0-20cm'!$E4*'Valeur de calcul'!$C$7)+'Valeur de calcul'!$C$3),1) -> #NUM! | S4: =ROUND(EXP(LN($R4)-2*'Valeur de calcul'!$C$8),1) -> #NUM! | T4: =ROUND(EXP(LN($R4)-1*'Valeur de calcul'!$C$8),1) -> #NUM! | U4: =ROUND(EXP(LN($R4)+1*'Valeur de calcul'!$C$8),1) -> #NUM! | V4: =ROUND(EXP(LN($R4)+2*'Valeur de calcul'!$C$8),1) -> #NUM! | W4: =IF($H4=0," ",IF($H4<$S4,"très basse",IF($H4<$T4,"basse",IF($H4>$V4,"très élevée",IF($H4>$U4,"élevée","normal"))))) | Y4: =ROUND($F4/$K4,3) -> #NUM! | Z4: =IF($Y4=0," ",IF($Y4<EXP(-2*'Valeur de calcul'!$B$8),"très basse", IF($Y4<EXP(-1*'Valeur de calcul'!$B$8),"basse",IF($Y4>EXP(2*'Valeur de calcul'!$B$8),"très élevée",IF($Y4>EXP('Valeur de calcul'!$B$8),"élevée","normal"))))) -> #NUM! | AA4: =ROUND($H4/$R4,3) -> #NUM! | AB4: =IF($AA4=0," ",IF($AA4<EXP(-2*'Valeur de calcul'!$C$8),"très basse", IF($AA4<EXP(-1*'Valeur de calcul'!$C$8),"basse",IF($AA4>EXP(2*'Valeur de calcul'!$C$8),"très élevée",IF($AA4>EXP('Valeur de calcul'!$C$8),"élevée","normal"))))) -> #NUM! | AD4: =ROUND(1000*$J4/$H4,2) -> #DIV/0! | AE4: =ROUND(0.1*$H4/$B4,1) -> #DIV/0!
J5: =IF($G5>0,($G5/24)/(44/12),$F5) -> 0 | K5: =ROUND((EXP(LN('Terre assolée 0-20cm'!$B5)*'Valeur de calcul'!$B$4+'Terre assolée 0-20cm'!$C5*'Valeur de calcul'!$B$5+LN('Terre assolée 0-20cm'!$D5)*'Valeur de calcul'!$B$6+'Terre assolée 0-20cm'!$E5*'Valeur de calcul'!$B$7+'Valeur de calcul'!$B$3)/24)/(44/12),3) -> #NUM! | L5: =ROUND(EXP(LN($K5)-2*'Valeur de calcul'!$B$8),3) -> #NUM! | M5: =ROUND(EXP(LN($K5)-'Valeur de calcul'!$B$8),3) -> #NUM! | N5: =ROUND(EXP(LN($K5)+'Valeur de calcul'!$B$8),3) -> #NUM! | O5: =ROUND(EXP(LN($K5)+2*'Valeur de calcul'!$B$8),3) -> #NUM! | P5: =IF($J5=0," ",IF($J5<$L5,"très basse",IF($J5<$M5,"basse",IF($J5>$O5,"très élevée",IF($J5>$N5,"élevée","normal"))))) | R5: =ROUND(EXP((LN($B5)*'Valeur de calcul'!$C$4)+('Terre assolée 0-20cm'!$C5*'Valeur de calcul'!$C$5)+(LN('Terre assolée 0-20cm'!$D5)*'Valeur de calcul'!$C$6)+('Terre assolée 0-20cm'!$E5*'Valeur de calcul'!$C$7)+'Valeur de calcul'!$C$3),1) -> #NUM! | S5: =ROUND(EXP(LN($R5)-2*'Valeur de calcul'!$C$8),1) -> #NUM! | T5: =ROUND(EXP(LN($R5)-1*'Valeur de calcul'!$C$8),1) -> #NUM! | U5: =ROUND(EXP(LN($R5)+1*'Valeur de calcul'!$C$8),1) -> #NUM! | V5: =ROUND(EXP(LN($R5)+2*'Valeur de calcul'!$C$8),1) -> #NUM! | W5: =IF($H5=0," ",IF($H5<$S5,"très basse",IF($H5<$T5,"basse",IF($H5>$V5,"très élevée",IF($H5>$U5,"élevée","normal"))))) | Y5: =ROUND($F5/$K5,3) -> #NUM! | Z5: =IF($Y5=0," ",IF($Y5<EXP(-2*'Valeur de calcul'!$B$8),"très basse", IF($Y5<EXP(-1*'Valeur de calcul'!$B$8),"basse",IF($Y5>EXP(2*'Valeur de calcul'!$B$8),"très élevée",IF($Y5>EXP('Valeur de calcul'!$B$8),"élevée","normal"))))) -> #NUM! | AA5: =ROUND($H5/$R5,3) -> #NUM! | AB5: =IF($AA5=0," ",IF($AA5<EXP(-2*'Valeur de calcul'!$C$8),"très basse", IF($AA5<EXP(-1*'Valeur de calcul'!$C$8),"basse",IF($AA5>EXP(2*'Valeur de calcul'!$C$8),"très élevée",IF($AA5>EXP('Valeur de calcul'!$C$8),"élevée","normal"))))) -> #NUM! | AD5: =ROUND(1000*$J5/$H5,2) -> #DIV/0! | AE5: =ROUND(0.1*$H5/$B5,1) -> #DIV/0!
J6: =IF($G6>0,($G6/24)/(44/12),$F6) -> 0 | K6: =ROUND((EXP(LN('Terre assolée 0-20cm'!$B6)*'Valeur de calcul'!$B$4+'Terre assolée 0-20cm'!$C6*'Valeur de calcul'!$B$5+LN('Terre assolée 0-20cm'!$D6)*'Valeur de calcul'!$B$6+'Terre assolée 0-20cm'!$E6*'Valeur de calcul'!$B$7+'Valeur de calcul'!$B$3)/24)/(44/12),3) -> #NUM! | L6: =ROUND(EXP(LN($K6)-2*'Valeur de calcul'!$B$8),3) -> #NUM! | M6: =ROUND(EXP(LN($K6)-'Valeur de calcul'!$B$8),3) -> #NUM! | N6: =ROUND(EXP(LN($K6)+'Valeur de calcul'!$B$8),3) -> #NUM! | O6: =ROUND(EXP(LN($K6)+2*'Valeur de calcul'!$B$8),3) -> #NUM! | P6: =IF($J6=0," ",IF($J6<$L6,"très basse",IF($J6<$M6,"basse",IF($J6>$O6,"très élevée",IF($J6>$N6,"élevée","normal"))))) | R6: =ROUND(EXP((LN($B6)*'Valeur de calcul'!$C$4)+('Terre assolée 0-20cm'!$C6*'Valeur de calcul'!$C$5)+(LN('Terre assolée 0-20cm'!$D6)*'Valeur de calcul'!$C$6)+('Terre assolée 0-20cm'!$E6*'Valeur de calcul'!$C$7)+'Valeur de calcul'!$C$3),1) -> #NUM! | S6: =ROUND(EXP(LN($R6)-2*'Valeur de calcul'!$C$8),1) -> #NUM! | T6: =ROUND(EXP(LN($R6)-1*'Valeur de calcul'!$C$8),1) -> #NUM! | U6: =ROUND(EXP(LN($R6)+1*'Valeur de calcul'!$C$8),1) -> #NUM! | V6: =ROUND(EXP(LN($R6)+2*'Valeur de calcul'!$C$8),1) -> #NUM! | W6: =IF($H6=0," ",IF($H6<$S6,"très basse",IF($H6<$T6,"basse",IF($H6>$V6,"très élevée",IF($H6>$U6,"élevée","normal"))))) | Y6: =ROUND($F6/$K6,3) -> #NUM! | Z6: =IF($Y6=0," ",IF($Y6<EXP(-2*'Valeur de calcul'!$B$8),"très basse", IF($Y6<EXP(-1*'Valeur de calcul'!$B$8),"basse",IF($Y6>EXP(2*'Valeur de calcul'!$B$8),"très élevée",IF($Y6>EXP('Valeur de calcul'!$B$8),"élevée","normal"))))) -> #NUM! | AA6: =ROUND($H6/$R6,3) -> #NUM! | AB6: =IF($AA6=0," ",IF($AA6<EXP(-2*'Valeur de calcul'!$C$8),"très basse", IF($AA6<EXP(-1*'Valeur de calcul'!$C$8),"basse",IF($AA6>EXP(2*'Valeur de calcul'!$C$8),"très élevée",IF($AA6>EXP('Valeur de calcul'!$C$8),"élevée","normal"))))) -> #NUM! | AD6: =ROUND(1000*$J6/$H6,2) -> #DIV/0! | AE6: =ROUND(0.1*$H6/$B6,1) -> #DIV/0!
J7: =IF($G7>0,($G7/24)/(44/12),$F7) -> 0 | K7: =ROUND((EXP(LN('Terre assolée 0-20cm'!$B7)*'Valeur de calcul'!$B$4+'Terre assolée 0-20cm'!$C7*'Valeur de calcul'!$B$5+LN('Terre assolée 0-20cm'!$D7)*'Valeur de calcul'!$B$6+'Terre assolée 0-20cm'!$E7*'Valeur de calcul'!$B$7+'Valeur de calcul'!$B$3)/24)/(44/12),3) -> #NUM! | L7: =ROUND(EXP(LN($K7)-2*'Valeur de calcul'!$B$8),3) -> #NUM! | M7: =ROUND(EXP(LN($K7)-'Valeur de calcul'!$B$8),3) -> #NUM! | N7: =ROUND(EXP(LN($K7)+'Valeur de calcul'!$B$8),3) -> #NUM! | O7: =ROUND(EXP(LN($K7)+2*'Valeur de calcul'!$B$8),3) -> #NUM! | P7: =IF($J7=0," ",IF($J7<$L7,"très basse",IF($J7<$M7,"basse",IF($J7>$O7,"très élevée",IF($J7>$N7,"élevée","normal"))))) | R7: =ROUND(EXP((LN($B7)*'Valeur de calcul'!$C$4)+('Terre assolée 0-20cm'!$C7*'Valeur de calcul'!$C$5)+(LN('Terre assolée 0-20cm'!$D7)*'Valeur de calcul'!$C$6)+('Terre assolée 0-20cm'!$E7*'Valeur de calcul'!$C$7)+'Valeur de calcul'!$C$3),1) -> #NUM! | S7: =ROUND(EXP(LN($R7)-2*'Valeur de calcul'!$C$8),1) -> #NUM! | T7: =ROUND(EXP(LN($R7)-1*'Valeur de calcul'!$C$8),1) -> #NUM! | U7: =ROUND(EXP(LN($R7)+1*'Valeur de calcul'!$C$8),1) -> #NUM! | V7: =ROUND(EXP(LN($R7)+2*'Valeur de calcul'!$C$8),1) -> #NUM! | W7: =IF($H7=0," ",IF($H7<$S7,"très basse",IF($H7<$T7,"basse",IF($H7>$V7,"très élevée",IF($H7>$U7,"élevée","normal"))))) | Y7: =ROUND($F7/$K7,3) -> #NUM! | Z7: =IF($Y7=0," ",IF($Y7<EXP(-2*'Valeur de calcul'!$B$8),"très basse", IF($Y7<EXP(-1*'Valeur de calcul'!$B$8),"basse",IF($Y7>EXP(2*'Valeur de calcul'!$B$8),"très élevée",IF($Y7>EXP('Valeur de calcul'!$B$8),"élevée","normal"))))) -> #NUM! | AA7: =ROUND($H7/$R7,3) -> #NUM! | AB7: =IF($AA7=0," ",IF($AA7<EXP(-2*'Valeur de calcul'!$C$8),"très basse", IF($AA7<EXP(-1*'Valeur de calcul'!$C$8),"basse",IF($AA7>EXP(2*'Valeur de calcul'!$C$8),"très élevée",IF($AA7>EXP('Valeur de calcul'!$C$8),"élevée","normal"))))) -> #NUM! | AD7: =ROUND(1000*$J7/$H7,2) -> #DIV/0! | AE7: =ROUND(0.1*$H7/$B7,1) -> #DIV/0!
J8: =IF($G8>0,($G8/24)/(44/12),$F8) -> 0 | K8: =ROUND((EXP(LN('Terre assolée 0-20cm'!$B8)*'Valeur de calcul'!$B$4+'Terre assolée 0-20cm'!$C8*'Valeur de calcul'!$B$5+LN('Terre assolée 0-20cm'!$D8)*'Valeur de calcul'!$B$6+'Terre assolée 0-20cm'!$E8*'Valeur de calcul'!$B$7+'Valeur de calcul'!$B$3)/24)/(44/12),3) -> #NUM! | L8: =ROUND(EXP(LN($K8)-2*'Valeur de calcul'!$B$8),3) -> #NUM! | M8: =ROUND(EXP(LN($K8)-'Valeur de calcul'!$B$8),3) -> #NUM! | N8: =ROUND(EXP(LN($K8)+'Valeur de calcul'!$B$8),3) -> #NUM! | O8: =ROUND(EXP(LN($K8)+2*'Valeur de calcul'!$B$8),3) -> #NUM! | P8: =IF($J8=0," ",IF($J8<$L8,"très basse",IF($J8<$M8,"basse",IF($J8>$O8,"très élevée",IF($J8>$N8,"élevée","normal"))))) | R8: =ROUND(EXP((LN($B8)*'Valeur de calcul'!$C$4)+('Terre assolée 0-20cm'!$C8*'Valeur de calcul'!$C$5)+(LN('Terre assolée 0-20cm'!$D8)*'Valeur de calcul'!$C$6)+('Terre assolée 0-20cm'!$E8*'Valeur de calcul'!$C$7)+'Valeur de calcul'!$C$3),1) -> #NUM! | S8: =ROUND(EXP(LN($R8)-2*'Valeur de calcul'!$C$8),1) -> #NUM! | T8: =ROUND(EXP(LN($R8)-1*'Valeur de calcul'!$C$8),1) -> #NUM! | U8: =ROUND(EXP(LN($R8)+1*'Valeur de calcul'!$C$8),1) -> #NUM! | V8: =ROUND(EXP(LN($R8)+2*'Valeur de calcul'!$C$8),1) -> #NUM! | W8: =IF($H8=0," ",IF($H8<$S8,"très basse",IF($H8<$T8,"basse",IF($H8>$V8,"très élevée",IF($H8>$U8,"élevée","normal"))))) | Y8: =ROUND($F8/$K8,3) -> #NUM! | Z8: =IF($Y8=0," ",IF($Y8<EXP(-2*'Valeur de calcul'!$B$8),"très basse", IF($Y8<EXP(-1*'Valeur de calcul'!$B$8),"basse",IF($Y8>EXP(2*'Valeur de calcul'!$B$8),"très élevée",IF($Y8>EXP('Valeur de calcul'!$B$8),"élevée","normal"))))) -> #NUM! | AA8: =ROUND($H8/$R8,3) -> #NUM! | AB8: =IF($AA8=0," ",IF($AA8<EXP(-2*'Valeur de calcul'!$C$8),"très basse", IF($AA8<EXP(-1*'Valeur de calcul'!$C$8),"basse",IF($AA8>EXP(2*'Valeur de calcul'!$C$8),"très élevée",IF($AA8>EXP('Valeur de calcul'!$C$8),"élevée","normal"))))) -> #NUM! | AD8: =ROUND(1000*$J8/$H8,2) -> #DIV/0! | AE8: =ROUND(0.1*$H8/$B8,1) -> #DIV/0!
J9: =IF($G9>0,($G9/24)/(44/12),$F9) -> 0 | K9: =ROUND((EXP(LN('Terre assolée 0-20cm'!$B9)*'Valeur de calcul'!$B$4+'Terre assolée 0-20cm'!$C9*'Valeur de calcul'!$B$5+LN('Terre assolée 0-20cm'!$D9)*'Valeur de calcul'!$B$6+'Terre assolée 0-20cm'!$E9*'Valeur de calcul'!$B$7+'Valeur de calcul'!$B$3)/24)/(44/12),3) -> #NUM! | L9: =ROUND(EXP(LN($K9)-2*'Valeur de calcul'!$B$8),3) -> #NUM! | M9: =ROUND(EXP(LN($K9)-'Valeur de calcul'!$B$8),3) -> #NUM! | N9: =ROUND(EXP(LN($K9)+'Valeur de calcul'!$B$8),3) -> #NUM! | O9: =ROUND(EXP(LN($K9)+2*'Valeur de calcul'!$B$8),3) -> #NUM! | P9: =IF($J9=0," ",IF($J9<$L9,"très basse",IF($J9<$M9,"basse",IF($J9>$O9,"très élevée",IF($J9>$N9,"élevée","normal"))))) | R9: =ROUND(EXP((LN($B9)*'Valeur de calcul'!$C$4)+('Terre assolée 0-20cm'!$C9*'Valeur de calcul'!$C$5)+(LN('Terre assolée 0-20cm'!$D9)*'Valeur de calcul'!$C$6)+('Terre assolée 0-20cm'!$E9*'Valeur de calcul'!$C$7)+'Valeur de calcul'!$C$3),1) -> #NUM! | S9: =ROUND(EXP(LN($R9)-2*'Valeur de calcul'!$C$8),1) -> #NUM! | T9: =ROUND(EXP(LN($R9)-1*'Valeur de calcul'!$C$8),1) -> #NUM! | U9: =ROUND(EXP(LN($R9)+1*'Valeur de calcul'!$C$8),1) -> #NUM! | V9: =ROUND(EXP(LN($R9)+2*'Valeur de calcul'!$C$8),1) -> #NUM! | W9: =IF($H9=0," ",IF($H9<$S9,"très basse",IF($H9<$T9,"basse",IF($H9>$V9,"très élevée",IF($H9>$U9,"élevée","normal"))))) | Y9: =ROUND($F9/$K9,3) -> #NUM! | Z9: =IF($Y9=0," ",IF($Y9<EXP(-2*'Valeur de calcul'!$B$8),"très basse", IF($Y9<EXP(-1*'Valeur de calcul'!$B$8),"basse",IF($Y9>EXP(2*'Valeur de calcul'!$B$8),"très élevée",IF($Y9>EXP('Valeur de calcul'!$B$8),"élevée","normal"))))) -> #NUM! | AA9: =ROUND($H9/$R9,3) -> #NUM! | AB9: =IF($AA9=0," ",IF($AA9<EXP(-2*'Valeur de calcul'!$C$8),"très basse", IF($AA9<EXP(-1*'Valeur de calcul'!$C$8),"basse",IF($AA9>EXP(2*'Valeur de calcul'!$C$8),"très élevée",IF($AA9>EXP('Valeur de calcul'!$C$8),"élevée","normal"))))) -> #NUM! | AD9: =ROUND(1000*$J9/$H9,2) -> #DIV/0! | AE9: =ROUND(0.1*$H9/$B9,1) -> #DIV/0!
J10: =IF($G10>0,($G10/24)/(44/12),$F10) -> 0 | K10: =ROUND((EXP(LN('Terre assolée 0-20cm'!$B10)*'Valeur de calcul'!$B$4+'Terre assolée 0-20cm'!$C10*'Valeur de calcul'!$B$5+LN('Terre assolée 0-20cm'!$D10)*'Valeur de calcul'!$B$6+'Terre assolée 0-20cm'!$E10*'Valeur de calcul'!$B$7+'Valeur de calcul'!$B$3)/24)/(44/12),3) -> #NUM! | L10: =ROUND(EXP(LN($K10)-2*'Valeur de calcul'!$B$8),3) -> #NUM! | M10: =ROUND(EXP(LN($K10)-'Valeur de calcul'!$B$8),3) -> #NUM! | N10: =ROUND(EXP(LN($K10)+'Valeur de calcul'!$B$8),3) -> #NUM! | O10: =ROUND(EXP(LN($K10)+2*'Valeur de calcul'!$B$8),3) -> #NUM! | P10: =IF($J10=0," ",IF($J10<$L10,"très basse",IF($J10<$M10,"basse",IF($J10>$O10,"très élevée",IF($J10>$N10,"élevée","normal"))))) | R10: =ROUND(EXP((LN($B10)*'Valeur de calcul'!$C$4)+('Terre assolée 0-20cm'!$C10*'Valeur de calcul'!$C$5)+(LN('Terre assolée 0-20cm'!$D10)*'Valeur de calcul'!$C$6)+('Terre assolée 0-20cm'!$E10*'Valeur de calcul'!$C$7)+'Valeur de calcul'!$C$3),1) -> #NUM! | S10: =ROUND(EXP(LN($R10)-2*'Valeur de calcul'!$C$8),1) -> #NUM! | T10: =ROUND(EXP(LN($R10)-1*'Valeur de calcul'!$C$8),1) -> #NUM! | U10: =ROUND(EXP(LN($R10)+1*'Valeur de calcul'!$C$8),1) -> #NUM! | V10: =ROUND(EXP(LN($R10)+2*'Valeur de calcul'!$C$8),1) -> #NUM! | W10: =IF($H10=0," ",IF($H10<$S10,"très basse",IF($H10<$T10,"basse",IF($H10>$V10,"très élevée",IF($H10>$U10,"élevée","normal"))))) | Y10: =ROUND($F10/$K10,3) -> #NUM! | Z10: =IF($Y10=0," ",IF($Y10<EXP(-2*'Valeur de calcul'!$B$8),"très basse", IF($Y10<EXP(-1*'Valeur de calcul'!$B$8),"basse",IF($Y10>EXP(2*'Valeur de calcul'!$B$8),"très élevée",IF($Y10>EXP('Valeur de calcul'!$B$8),"élevée","normal"))))) -> #NUM! | AA10: =ROUND($H10/$R10,3) -> #NUM! | AB10: =IF($AA10=0," ",IF($AA10<EXP(-2*'Valeur de calcul'!$C$8),"très basse", IF($AA10<EXP(-1*'Valeur de calcul'!$C$8),"basse",IF($AA10>EXP(2*'Valeur de calcul'!$C$8),"très élevée",IF($AA10>EXP('Valeur de calcul'!$C$8),"élevée","normal"))))) -> #NUM! | AD10: =ROUND(1000*$J10/$H10,2) -> #DIV/0! | AE10: =ROUND(0.1*$H10/$B10,1) -> #DIV/0!
J11: =IF($G11>0,($G11/24)/(44/12),$F11) -> 0 | K11: =ROUND((EXP(LN('Terre assolée 0-20cm'!$B11)*'Valeur de calcul'!$B$4+'Terre assolée 0-20cm'!$C11*'Valeur de calcul'!$B$5+LN('Terre assolée 0-20cm'!$D11)*'Valeur de calcul'!$B$6+'Terre assolée 0-20cm'!$E11*'Valeur de calcul'!$B$7+'Valeur de calcul'!$B$3)/24)/(44/12),3) -> #NUM! | L11: =ROUND(EXP(LN($K11)-2*'Valeur de calcul'!$B$8),3) -> #NUM! | M11: =ROUND(EXP(LN($K11)-'Valeur de calcul'!$B$8),3) -> #NUM! | N11: =ROUND(EXP(LN($K11)+'Valeur de calcul'!$B$8),3) -> #NUM! | O11: =ROUND(EXP(LN($K11)+2*'Valeur de calcul'!$B$8),3) -> #NUM! | P11: =IF($J11=0," ",IF($J11<$L11,"très basse",IF($J11<$M11,"basse",IF($J11>$O11,"très élevée",IF($J11>$N11,"élevée","normal"))))) | R11: =ROUND(EXP((LN($B11)*'Valeur de calcul'!$C$4)+('Terre assolée 0-20cm'!$C11*'Valeur de calcul'!$C$5)+(LN('Terre assolée 0-20cm'!$D11)*'Valeur de calcul'!$C$6)+('Terre assolée 0-20cm'!$E11*'Valeur de calcul'!$C$7)+'Valeur de calcul'!$C$3),1) -> #NUM! | S11: =ROUND(EXP(LN($R11)-2*'Valeur de calcul'!$C$8),1) -> #NUM! | T11: =ROUND(EXP(LN($R11)-1*'Valeur de calcul'!$C$8),1) -> #NUM! | U11: =ROUND(EXP(LN($R11)+1*'Valeur de calcul'!$C$8),1) -> #NUM! | V11: =ROUND(EXP(LN($R11)+2*'Valeur de calcul'!$C$8),1) -> #NUM! | W11: =IF($H11=0," ",IF($H11<$S11,"très basse",IF($H11<$T11,"basse",IF($H11>$V11,"très élevée",IF($H11>$U11,"élevée","normal"))))) | Y11: =ROUND($F11/$K11,3) -> #NUM! | Z11: =IF($Y11=0," ",IF($Y11<EXP(-2*'Valeur de calcul'!$B$8),"très basse", IF($Y11<EXP(-1*'Valeur de calcul'!$B$8),"basse",IF($Y11>EXP(2*'Valeur de calcul'!$B$8),"très élevée",IF($Y11>EXP('Valeur de calcul'!$B$8),"élevée","normal"))))) -> #NUM! | AA11: =ROUND($H11/$R11,3) -> #NUM! | AB11: =IF($AA11=0," ",IF($AA11<EXP(-2*'Valeur de calcul'!$C$8),"très basse", IF($AA11<EXP(-1*'Valeur de calcul'!$C$8),"basse",IF($AA11>EXP(2*'Valeur de calcul'!$C$8),"très élevée",IF($AA11>EXP('Valeur de calcul'!$C$8),"élevée","normal"))))) -> #NUM! | AD11: =ROUND(1000*$J11/$H11,2) -> #DIV/0! | AE11: =ROUND(0.1*$H11/$B11,1) -> #DIV/0!
J12: =IF($G12>0,($G12/24)/(44/12),$F12) -> 0 | K12: =ROUND((EXP(LN('Terre assolée 0-20cm'!$B12)*'Valeur de calcul'!$B$4+'Terre assolée 0-20cm'!$C12*'Valeur de calcul'!$B$5+LN('Terre assolée 0-20cm'!$D12)*'Valeur de calcul'!$B$6+'Terre assolée 0-20cm'!$E12*'Valeur de calcul'!$B$7+'Valeur de calcul'!$B$3)/24)/(44/12),3) -> #NUM! | L12: =ROUND(EXP(LN($K12)-2*'Valeur de calcul'!$B$8),3) -> #NUM! | M12: =ROUND(EXP(LN($K12)-'Valeur de calcul'!$B$8),3) -> #NUM! | N12: =ROUND(EXP(LN($K12)+'Valeur de calcul'!$B$8),3) -> #NUM! | O12: =ROUND(EXP(LN($K12)+2*'Valeur de calcul'!$B$8),3) -> #NUM! | P12: =IF($J12=0," ",IF($J12<$L12,"très basse",IF($J12<$M12,"basse",IF($J12>$O12,"très élevée",IF($J12>$N12,"élevée","normal"))))) | R12: =ROUND(EXP((LN($B12)*'Valeur de calcul'!$C$4)+('Terre assolée 0-20cm'!$C12*'Valeur de calcul'!$C$5)+(LN('Terre assolée 0-20cm'!$D12)*'Valeur de calcul'!$C$6)+('Terre assolée 0-20cm'!$E12*'Valeur de calcul'!$C$7)+'Valeur de calcul'!$C$3),1) -> #NUM! | S12: =ROUND(EXP(LN($R12)-2*'Valeur de calcul'!$C$8),1) -> #NUM! | T12: =ROUND(EXP(LN($R12)-1*'Valeur de calcul'!$C$8),1) -> #NUM! | U12: =ROUND(EXP(LN($R12)+1*'Valeur de calcul'!$C$8),1) -> #NUM! | V12: =ROUND(EXP(LN($R12)+2*'Valeur de calcul'!$C$8),1) -> #NUM! | W12: =IF($H12=0," ",IF($H12<$S12,"très basse",IF($H12<$T12,"basse",IF($H12>$V12,"très élevée",IF($H12>$U12,"élevée","normal"))))) | Y12: =ROUND($F12/$K12,3) -> #NUM! | Z12: =IF($Y12=0," ",IF($Y12<EXP(-2*'Valeur de calcul'!$B$8),"très basse", IF($Y12<EXP(-1*'Valeur de calcul'!$B$8),"basse",IF($Y12>EXP(2*'Valeur de calcul'!$B$8),"très élevée",IF($Y12>EXP('Valeur de calcul'!$B$8),"élevée","normal"))))) -> #NUM! | AA12: =ROUND($H12/$R12,3) -> #NUM! | AB12: =IF($AA12=0," ",IF($AA12<EXP(-2*'Valeur de calcul'!$C$8),"très basse", IF($AA12<EXP(-1*'Valeur de calcul'!$C$8),"basse",IF($AA12>EXP(2*'Valeur de calcul'!$C$8),"très élevée",IF($AA12>EXP('Valeur de calcul'!$C$8),"élevée","normal"))))) -> #NUM! | AD12: =ROUND(1000*$J12/$H12,2) -> #DIV/0! | AE12: =ROUND(0.1*$H12/$B12,1) -> #DIV/0!
J13: =IF($G13>0,($G13/24)/(44/12),$F13) -> 0 | K13: =ROUND((EXP(LN('Terre assolée 0-20cm'!$B13)*'Valeur de calcul'!$B$4+'Terre assolée 0-20cm'!$C13*'Valeur de calcul'!$B$5+LN('Terre assolée 0-20cm'!$D13)*'Valeur de calcul'!$B$6+'Terre assolée 0-20cm'!$E13*'Valeur de calcul'!$B$7+'Valeur de calcul'!$B$3)/24)/(44/12),3) -> #NUM! | L13: =ROUND(EXP(LN($K13)-2*'Valeur de calcul'!$B$8),3) -> #NUM! | M13: =ROUND(EXP(LN($K13)-'Valeur de calcul'!$B$8),3) -> #NUM! | N13: =ROUND(EXP(LN($K13)+'Valeur de calcul'!$B$8),3) -> #NUM! | O13: =ROUND(EXP(LN($K13)+2*'Valeur de calcul'!$B$8),3) -> #NUM! | P13: =IF($J13=0," ",IF($J13<$L13,"très basse",IF($J13<$M13,"basse",IF($J13>$O13,"très élevée",IF($J13>$N13,"élevée","normal"))))) | R13: =ROUND(EXP((LN($B13)*'Valeur de calcul'!$C$4)+('Terre assolée 0-20cm'!$C13*'Valeur de calcul'!$C$5)+(LN('Terre assolée 0-20cm'!$D13)*'Valeur de calcul'!$C$6)+('Terre assolée 0-20cm'!$E13*'Valeur de calcul'!$C$7)+'Valeur de calcul'!$C$3),1) -> #NUM! | S13: =ROUND(EXP(LN($R13)-2*'Valeur de calcul'!$C$8),1) -> #NUM! | T13: =ROUND(EXP(LN($R13)-1*'Valeur de calcul'!$C$8),1) -> #NUM! | U13: =ROUND(EXP(LN($R13)+1*'Valeur de calcul'!$C$8),1) -> #NUM! | V13: =ROUND(EXP(LN($R13)+2*'Valeur de calcul'!$C$8),1) -> #NUM! | W13: =IF($H13=0," ",IF($H13<$S13,"très basse",IF($H13<$T13,"basse",IF($H13>$V13,"très élevée",IF($H13>$U13,"élevée","normal"))))) | Y13: =ROUND($F13/$K13,3) -> #NUM! | Z13: =IF($Y13=0," ",IF($Y13<EXP(-2*'Valeur de calcul'!$B$8),"très basse", IF($Y13<EXP(-1*'Valeur de calcul'!$B$8),"basse",IF($Y13>EXP(2*'Valeur de calcul'!$B$8),"très élevée",IF($Y13>EXP('Valeur de calcul'!$B$8),"élevée","normal"))))) -> #NUM! | AA13: =ROUND($H13/$R13,3) -> #NUM! | AB13: =IF($AA13=0," ",IF($AA13<EXP(-2*'Valeur de calcul'!$C$8),"très basse", IF($AA13<EXP(-1*'Valeur de calcul'!$C$8),"basse",IF($AA13>EXP(2*'Valeur de calcul'!$C$8),"très élevée",IF($AA13>EXP('Valeur de calcul'!$C$8),"élevée","normal"))))) -> #NUM! | AD13: =ROUND(1000*$J13/$H13,2) -> #DIV/0! | AE13: =ROUND(0.1*$H13/$B13,1) -> #DIV/0!
J14: =IF($G14>0,($G14/24)/(44/12),$F14) -> 0 | K14: =ROUND((EXP(LN('Terre assolée 0-20cm'!$B14)*'Valeur de calcul'!$B$4+'Terre assolée 0-20cm'!$C14*'Valeur de calcul'!$B$5+LN('Terre assolée 0-20cm'!$D14)*'Valeur de calcul'!$B$6+'Terre assolée 0-20cm'!$E14*'Valeur de calcul'!$B$7+'Valeur de calcul'!$B$3)/24)/(44/12),3) -> #NUM! | L14: =ROUND(EXP(LN($K14)-2*'Valeur de calcul'!$B$8),3) -> #NUM! | M14: =ROUND(EXP(LN($K14)-'Valeur de calcul'!$B$8),3) -> #NUM! | N14: =ROUND(EXP(LN($K14)+'Valeur de calcul'!$B$8),3) -> #NUM! | O14: =ROUND(EXP(LN($K14)+2*'Valeur de calcul'!$B$8),3) -> #NUM! | P14: =IF($J14=0," ",IF($J14<$L14,"très basse",IF($J14<$M14,"basse",IF($J14>$O14,"très élevée",IF($J14>$N14,"élevée","normal"))))) | R14: =ROUND(EXP((LN($B14)*'Valeur de calcul'!$C$4)+('Terre assolée 0-20cm'!$C14*'Valeur de calcul'!$C$5)+(LN('Terre assolée 0-20cm'!$D14)*'Valeur de calcul'!$C$6)+('Terre assolée 0-20cm'!$E14*'Valeur de calcul'!$C$7)+'Valeur de calcul'!$C$3),1) -> #NUM! | S14: =ROUND(EXP(LN($R14)-2*'Valeur de calcul'!$C$8),1) -> #NUM! | T14: =ROUND(EXP(LN($R14)-1*'Valeur de calcul'!$C$8),1) -> #NUM! | U14: =ROUND(EXP(LN($R14)+1*'Valeur de calcul'!$C$8),1) -> #NUM! | V14: =ROUND(EXP(LN($R14)+2*'Valeur de calcul'!$C$8),1) -> #NUM! | W14: =IF($H14=0," ",IF($H14<$S14,"très basse",IF($H14<$T14,"basse",IF($H14>$V14,"très élevée",IF($H14>$U14,"élevée","normal"))))) | Y14: =ROUND($F14/$K14,3) -> #NUM! | Z14: =IF($Y14=0," ",IF($Y14<EXP(-2*'Valeur de calcul'!$B$8),"très basse", IF($Y14<EXP(-1*'Valeur de calcul'!$B$8),"basse",IF($Y14>EXP(2*'Valeur de calcul'!$B$8),"très élevée",IF($Y14>EXP('Valeur de calcul'!$B$8),"élevée","normal"))))) -> #NUM! | AA14: =ROUND($H14/$R14,3) -> #NUM! | AB14: =IF($AA14=0," ",IF($AA14<EXP(-2*'Valeur de calcul'!$C$8),"très basse", IF($AA14<EXP(-1*'Valeur de calcul'!$C$8),"basse",IF($AA14>EXP(2*'Valeur de calcul'!$C$8),"très élevée",IF($AA14>EXP('Valeur de calcul'!$C$8),"élevée","normal"))))) -> #NUM! | AD14: =ROUND(1000*$J14/$H14,2) -> #DIV/0! | AE14: =ROUND(0.1*$H14/$B14,1) -> #DIV/0!
J15: =IF($G15>0,($G15/24)/(44/12),$F15) -> 0 | K15: =ROUND((EXP(LN('Terre assolée 0-20cm'!$B15)*'Valeur de calcul'!$B$4+'Terre assolée 0-20cm'!$C15*'Valeur de calcul'!$B$5+LN('Terre assolée 0-20cm'!$D15)*'Valeur de calcul'!$B$6+'Terre assolée 0-20cm'!$E15*'Valeur de calcul'!$B$7+'Valeur de calcul'!$B$3)/24)/(44/12),3) -> #NUM! | L15: =ROUND(EXP(LN($K15)-2*'Valeur de calcul'!$B$8),3) -> #NUM! | M15: =ROUND(EXP(LN($K15)-'Valeur de calcul'!$B$8),3) -> #NUM! | N15: =ROUND(EXP(LN($K15)+'Valeur de calcul'!$B$8),3) -> #NUM! | O15: =ROUND(EXP(LN($K15)+2*'Valeur de calcul'!$B$8),3) -> #NUM! | P15: =IF($J15=0," ",IF($J15<$L15,"très basse",IF($J15<$M15,"basse",IF($J15>$O15,"très élevée",IF($J15>$N15,"élevée","normal"))))) | R15: =ROUND(EXP((LN($B15)*'Valeur de calcul'!$C$4)+('Terre assolée 0-20cm'!$C15*'Valeur de calcul'!$C$5)+(LN('Terre assolée 0-20cm'!$D15)*'Valeur de calcul'!$C$6)+('Terre assolée 0-20cm'!$E15*'Valeur de calcul'!$C$7)+'Valeur de calcul'!$C$3),1) -> #NUM! | S15: =ROUND(EXP(LN($R15)-2*'Valeur de calcul'!$C$8),1) -> #NUM! | T15: =ROUND(EXP(LN($R15)-1*'Valeur de calcul'!$C$8),1) -> #NUM! | U15: =ROUND(EXP(LN($R15)+1*'Valeur de calcul'!$C$8),1) -> #NUM! | V15: =ROUND(EXP(LN($R15)+2*'Valeur de calcul'!$C$8),1) -> #NUM! | W15: =IF($H15=0," ",IF($H15<$S15,"très basse",IF($H15<$T15,"basse",IF($H15>$V15,"très élevée",IF($H15>$U15,"élevée","normal"))))) | Y15: =ROUND($F15/$K15,3) -> #NUM! | Z15: =IF($Y15=0," ",IF($Y15<EXP(-2*'Valeur de calcul'!$B$8),"très basse", IF($Y15<EXP(-1*'Valeur de calcul'!$B$8),"basse",IF($Y15>EXP(2*'Valeur de calcul'!$B$8),"très élevée",IF($Y15>EXP('Valeur de calcul'!$B$8),"élevée","normal"))))) -> #NUM! | AA15: =ROUND($H15/$R15,3) -> #NUM! | AB15: =IF($AA15=0," ",IF($AA15<EXP(-2*'Valeur de calcul'!$C$8),"très basse", IF($AA15<EXP(-1*'Valeur de calcul'!$C$8),"basse",IF($AA15>EXP(2*'Valeur de calcul'!$C$8),"très élevée",IF($AA15>EXP('Valeur de calcul'!$C$8),"élevée","normal"))))) -> #NUM! | AD15: =ROUND(1000*$J15/$H15,2) -> #DIV/0! | AE15: =ROUND(0.1*$H15/$B15,1) -> #DIV/0!
... J220: =IF($G220>0,($G220/24)/(44/12),$F220) -> 0 | K220: =ROUND((EXP(LN('Terre assolée 0-20cm'!$B220)*'Valeur de calcul'!$B$4+'Terre assolée 0-20cm'!$C220*'Valeur de calcul'!$B$5+LN('Terre assolée 0-20cm'!$D220)*'Valeur de calcul'!$B$6+'Terre assolée 0-20cm'!$E220*'Valeur de calcul'!$B$7+'Valeur de calcul'!$B$3)/24)/(44/12),3) -> #NUM! | L220: =ROUND(EXP(LN($K220)-2*'Valeur de calcul'!$B$8),3) -> #NUM! | M220: =ROUND(EXP(LN($K220)-'Valeur de calcul'!$B$8),3) -> #NUM! | N220: =ROUND(EXP(LN($K220)+'Valeur de calcul'!$B$8),3) -> #NUM! | O220: =ROUND(EXP(LN($K220)+2*'Valeur de calcul'!$B$8),3) -> #NUM! | P220: =IF($J220=0," ",IF($J220<$L220,"très basse",IF($J220<$M220,"basse",IF($J220>$O220,"très élevée",IF($J220>$N220,"élevée","normal"))))) | R220: =ROUND(EXP((LN($B220)*'Valeur de calcul'!$C$4)+('Terre assolée 0-20cm'!$C220*'Valeur de calcul'!$C$5)+(LN('Terre assolée 0-20cm'!$D220)*'Valeur de calcul'!$C$6)+('Terre assolée 0-20cm'!$E220*'Valeur de calcul'!$C$7)+'Valeur de calcul'!$C$3),1) -> #NUM! | S220: =ROUND(EXP(LN($R220)-2*'Valeur de calcul'!$C$8),1) -> #NUM! | T220: =ROUND(EXP(LN($R220)-1*'Valeur de calcul'!$C$8),1) -> #NUM! | U220: =ROUND(EXP(LN($R220)+1*'Valeur de calcul'!$C$8),1) -> #NUM! | V220: =ROUND(EXP(LN($R220)+2*'Valeur de calcul'!$C$8),1) -> #NUM! | W220: =IF($H220=0," ",IF($H220<$S220,"très basse",IF($H220<$T220,"basse",IF($H220>$V220,"très élevée",IF($H220>$U220,"élevée","normal"))))) | Y220: =ROUND($F220/$K220,3) -> #NUM! | Z220: =IF($Y220=0," ",IF($Y220<EXP(-2*'Valeur de calcul'!$B$8),"très basse", IF($Y220<EXP(-1*'Valeur de calcul'!$B$8),"basse",IF($Y220>EXP(2*'Valeur de calcul'!$B$8),"très élevée",IF($Y220>EXP('Valeur de calcul'!$B$8),"élevée","normal"))))) -> #NUM! | AA220: =ROUND($H220/$R220,3) -> #NUM! | AB220: =IF($AA220=0," ",IF($AA220<EXP(-2*'Valeur de calcul'!$C$8),"très basse", IF($AA220<EXP(-1*'Valeur de calcul'!$C$8),"basse",IF($AA220>EXP(2*'Valeur de calcul'!$C$8),"très élevée",IF($AA220>EXP('Valeur de calcul'!$C$8),"élevée","normal"))))) -> #NUM! | AD220: =ROUND(1000*$J220/$H220,2) -> #DIV/0! | AE220: =ROUND(0.1*$H220/$B220,1) -> #DIV/0!

Sheet Prairie permanente 0-20 cm
A1: Aide au travail pour le recensement et l'évaluation de paramètres biologiques du sol (VBBio/BioSA (Hrsg.), 2025) | J1: Version 1, 14.03.2025
A2: Entrée de données | F2: Valeur Respiration basale soit ou | J2: Calculs | L2: SC = Seuil de confiance | Y2: RB= Respiration basale; FE-C = biomasse microbienne (méthode d'extraction par fumigation)
A3: Prairie permanente désignation de l'échantillon | B3: Corg (pois %, méthode FAL) | C3: pH (CaCl2) | D3: Argile (%) | E3: Sable (%) | F3: Respiration basale (mg CO2-C kg-1 MS h-1) | G3: Respiration basale (mg CO2 kg-1 MS 24h-1) | H3: Biomasse microbienne fumigation (mg kg-1) | J3: Respiration basale (mg CO2-C kg-1 MS h-1) | K3: Respiration basale calculée | L3: Respiration basale SC inférieur 95% | M3: Respiration basale SC inférieur 67% | N3: Respiration basale SC supérieur 67% | O3: Respiration basale SC supérieur 95% | P3: Évaluation de la respiration basale | R3: Biomasse microbienne calculée | S3: Biomasse mic. SC inférieur 95% | T3: Biomasse mic. SC inférieur 67% | U3: Biomasse mic. SC supérieur 67% | V3: Biomasse mic. SC supérieur 95% | W3: Évaluation de la biomasse mic. | Y3: Indicateur d'état Q-RB | Z3: Évaluation RB | AA3: Indicateur d'état Q-FE-C | AB3: Évaluation FE-C | AD3: Quotient métabolique qCO2 (RB/FE-C Fumigation) CO2-C /Cmic [mg/g/h)] | AE3: Cmik:Corg [mg/g]
J4: =IF($G4>0,($G4/24)/(44/12),$F4) -> 0 | K4: =ROUND((EXP(LN($B4)*'Valeur de calcul'!$G$4+$C4*'Valeur de calcul'!$G$5+LN($D4)*'Valeur de calcul'!$G$6+LN($E4)*'Valeur de calcul'!$G$7+'Valeur de calcul'!$G$3)/24)/(44/12),3) -> #NUM! | L4: =ROUND(EXP(LN($K4)-2*'Valeur de calcul'!$G$8),3) -> #NUM! | M4: =ROUND(EXP(LN($K4)-'Valeur de calcul'!$G$8),3) -> #NUM! | N4: =ROUND(EXP(LN($K4)+'Valeur de calcul'!$G$8),3) -> #NUM! | O4: =ROUND(EXP(LN($K4)+2*'Valeur de calcul'!$G$8),3) -> #NUM! | P4: =IF($J4=0," ",IF($J4<$L4,"très basse",IF($J4<$M4,"basse",IF($J4>$O4,"très élevée",IF($J4>$N4,"élevée","normal"))))) | R4: =ROUND(EXP((LN($B4)*'Valeur de calcul'!$H$4)+($C4*'Valeur de calcul'!$H$5)+(LN($D4)*'Valeur de calcul'!$H$6)+(LN($E4)*'Valeur de calcul'!$H$7)+'Valeur de calcul'!$H$3),1) -> #NUM! | S4: =ROUND(EXP(LN($R4)-2*'Valeur de calcul'!$H$8),1) -> #NUM! | T4: =ROUND(EXP(LN($R4)-1*'Valeur de calcul'!$H$8),1) -> #NUM! | U4: =ROUND(EXP(LN($R4)+1*'Valeur de calcul'!$H$8),1) -> #NUM! | V4: =ROUND(EXP(LN($R4)+2*'Valeur de calcul'!$H$8),1) -> #NUM! | W4: =IF($H4=0," ",IF($H4<$S4,"très basse",IF($H4<$T4,"basse",IF($H4>$V4,"très élevée",IF($H4>$U4,"élevée","normal"))))) | Y4: =ROUND($J4/$K4,3) -> #NUM! | Z4: =IF(Y4=0," ",IF($Y4<EXP(-2*'Valeur de calcul'!$G$8),"très basse", IF('Prairie permanente 0-20 cm'!$Y4<EXP(-1*'Valeur de calcul'!$G$8),"basse",IF('Prairie permanente 0-20 cm'!$Y4>EXP(2*'Valeur de calcul'!$G$8),"très élevée",IF('Prairie permanente 0-20 cm'!$Y4>EXP('Valeur de calcul'!$G$8),"élevée","normal"))))) -> #NUM! | AA4: =ROUND($H4/$R4,3) -> #NUM! | AB4: =IF(AA4=0," ",IF($AA4<EXP(-2*'Valeur de calcul'!$H$8),"très basse", IF('Prairie permanente 0-20 cm'!$AA4<EXP(-1*'Valeur de calcul'!$H$8),"basse",IF('Prairie permanente 0-20 cm'!$AA4>EXP(2*'Valeur de calcul'!$H$8),"très élevée",IF('Prairie permanente 0-20 cm'!$AA4>EXP('Valeur de calcul'!$H$8),"élevée","normal"))))) -> #NUM! | AD4: =ROUND(1000*$J4/$H4,2) -> #DIV/0! | AE4: =ROUND(0.1*$H4/$B4,1) -> #DIV/0!
J5: =IF($G5>0,($G5/24)/(44/12),$F5) -> 0 | K5: =ROUND((EXP(LN($B5)*'Valeur de calcul'!$G$4+$C5*'Valeur de calcul'!$G$5+LN($D5)*'Valeur de calcul'!$G$6+LN($E5)*'Valeur de calcul'!$G$7+'Valeur de calcul'!$G$3)/24)/(44/12),3) -> #NUM! | L5: =ROUND(EXP(LN($K5)-2*'Valeur de calcul'!$G$8),3) -> #NUM! | M5: =ROUND(EXP(LN($K5)-'Valeur de calcul'!$G$8),3) -> #NUM! | N5: =ROUND(EXP(LN($K5)+'Valeur de calcul'!$G$8),3) -> #NUM! | O5: =ROUND(EXP(LN($K5)+2*'Valeur de calcul'!$G$8),3) -> #NUM! | P5: =IF($J5=0," ",IF($J5<$L5,"très basse",IF($J5<$M5,"basse",IF($J5>$O5,"très élevée",IF($J5>$N5,"élevée","normal"))))) | R5: =ROUND(EXP((LN($B5)*'Valeur de calcul'!$H$4)+($C5*'Valeur de calcul'!$H$5)+(LN($D5)*'Valeur de calcul'!$H$6)+(LN($E5)*'Valeur de calcul'!$H$7)+'Valeur de calcul'!$H$3),1) -> #NUM! | S5: =ROUND(EXP(LN($R5)-2*'Valeur de calcul'!$H$8),1) -> #NUM! | T5: =ROUND(EXP(LN($R5)-1*'Valeur de calcul'!$H$8),1) -> #NUM! | U5: =ROUND(EXP(LN($R5)+1*'Valeur de calcul'!$H$8),1) -> #NUM! | V5: =ROUND(EXP(LN($R5)+2*'Valeur de calcul'!$H$8),1) -> #NUM! | W5: =IF($H5=0," ",IF($H5<$S5,"très basse",IF($H5<$T5,"basse",IF($H5>$V5,"très élevée",IF($H5>$U5,"élevée","normal"))))) | Y5: =ROUND($J5/$K5,3) -> #NUM! | Z5: =IF(Y5=0," ",IF($Y5<EXP(-2*'Valeur de calcul'!$G$8),"très basse", IF('Prairie permanente 0-20 cm'!$Y5<EXP(-1*'Valeur de calcul'!$G$8),"basse",IF('Prairie permanente 0-20 cm'!$Y5>EXP(2*'Valeur de calcul'!$G$8),"très élevée",IF('Prairie permanente 0-20 cm'!$Y5>EXP('Valeur de calcul'!$G$8),"élevée","normal"))))) -> #NUM! | AA5: =ROUND($H5/$R5,3) -> #NUM! | AB5: =IF(AA5=0," ",IF($AA5<EXP(-2*'Valeur de calcul'!$H$8),"très basse", IF('Prairie permanente 0-20 cm'!$AA5<EXP(-1*'Valeur de calcul'!$H$8),"basse",IF('Prairie permanente 0-20 cm'!$AA5>EXP(2*'Valeur de calcul'!$H$8),"très élevée",IF('Prairie permanente 0-20 cm'!$AA5>EXP('Valeur de calcul'!$H$8),"élevée","normal"))))) -> #NUM! | AD5: =ROUND(1000*$J5/$H5,2) -> #DIV/0! | AE5: =ROUND(0.1*$H5/$B5,1) -> #DIV/0!
J6: =IF($G6>0,($G6/24)/(44/12),$F6) -> 0 | K6: =ROUND((EXP(LN($B6)*'Valeur de calcul'!$G$4+$C6*'Valeur de calcul'!$G$5+LN($D6)*'Valeur de calcul'!$G$6+LN($E6)*'Valeur de calcul'!$G$7+'Valeur de calcul'!$G$3)/24)/(44/12),3) -> #NUM! | L6: =ROUND(EXP(LN($K6)-2*'Valeur de calcul'!$G$8),3) -> #NUM! | M6: =ROUND(EXP(LN($K6)-'Valeur de calcul'!$G$8),3) -> #NUM! | N6: =ROUND(EXP(LN($K6)+'Valeur de calcul'!$G$8),3) -> #NUM! | O6: =ROUND(EXP(LN($K6)+2*'Valeur de calcul'!$G$8),3) -> #NUM! | P6: =IF($J6=0," ",IF($J6<$L6,"très basse",IF($J6<$M6,"basse",IF($J6>$O6,"très élevée",IF($J6>$N6,"élevée","normal"))))) | R6: =ROUND(EXP((LN($B6)*'Valeur de calcul'!$H$4)+($C6*'Valeur de calcul'!$H$5)+(LN($D6)*'Valeur de calcul'!$H$6)+(LN($E6)*'Valeur de calcul'!$H$7)+'Valeur de calcul'!$H$3),1) -> #NUM! | S6: =ROUND(EXP(LN($R6)-2*'Valeur de calcul'!$H$8),1) -> #NUM! | T6: =ROUND(EXP(LN($R6)-1*'Valeur de calcul'!$H$8),1) -> #NUM! | U6: =ROUND(EXP(LN($R6)+1*'Valeur de calcul'!$H$8),1) -> #NUM! | V6: =ROUND(EXP(LN($R6)+2*'Valeur de calcul'!$H$8),1) -> #NUM! | W6: =IF($H6=0," ",IF($H6<$S6,"très basse",IF($H6<$T6,"basse",IF($H6>$V6,"très élevée",IF($H6>$U6,"élevée","normal"))))) | Y6: =ROUND($J6/$K6,3) -> #NUM! | Z6: =IF(Y6=0," ",IF($Y6<EXP(-2*'Valeur de calcul'!$G$8),"très basse", IF('Prairie permanente 0-20 cm'!$Y6<EXP(-1*'Valeur de calcul'!$G$8),"basse",IF('Prairie permanente 0-20 cm'!$Y6>EXP(2*'Valeur de calcul'!$G$8),"très élevée",IF('Prairie permanente 0-20 cm'!$Y6>EXP('Valeur de calcul'!$G$8),"élevée","normal"))))) -> #NUM! | AA6: =ROUND($H6/$R6,3) -> #NUM! | AB6: =IF(AA6=0," ",IF($AA6<EXP(-2*'Valeur de calcul'!$H$8),"très basse", IF('Prairie permanente 0-20 cm'!$AA6<EXP(-1*'Valeur de calcul'!$H$8),"basse",IF('Prairie permanente 0-20 cm'!$AA6>EXP(2*'Valeur de calcul'!$H$8),"très élevée",IF('Prairie permanente 0-20 cm'!$AA6>EXP('Valeur de calcul'!$H$8),"élevée","normal"))))) -> #NUM! | AD6: =ROUND(1000*$J6/$H6,2) -> #DIV/0! | AE6: =ROUND(0.1*$H6/$B6,1) -> #DIV/0!
J7: =IF($G7>0,($G7/24)/(44/12),$F7) -> 0 | K7: =ROUND((EXP(LN($B7)*'Valeur de calcul'!$G$4+$C7*'Valeur de calcul'!$G$5+LN($D7)*'Valeur de calcul'!$G$6+LN($E7)*'Valeur de calcul'!$G$7+'Valeur de calcul'!$G$3)/24)/(44/12),3) -> #NUM! | L7: =ROUND(EXP(LN($K7)-2*'Valeur de calcul'!$G$8),3) -> #NUM! | M7: =ROUND(EXP(LN($K7)-'Valeur de calcul'!$G$8),3) -> #NUM! | N7: =ROUND(EXP(LN($K7)+'Valeur de calcul'!$G$8),3) -> #NUM! | O7: =ROUND(EXP(LN($K7)+2*'Valeur de calcul'!$G$8),3) -> #NUM! | P7: =IF($J7=0," ",IF($J7<$L7,"très basse",IF($J7<$M7,"basse",IF($J7>$O7,"très élevée",IF($J7>$N7,"élevée","normal"))))) | R7: =ROUND(EXP((LN($B7)*'Valeur de calcul'!$H$4)+($C7*'Valeur de calcul'!$H$5)+(LN($D7)*'Valeur de calcul'!$H$6)+(LN($E7)*'Valeur de calcul'!$H$7)+'Valeur de calcul'!$H$3),1) -> #NUM! | S7: =ROUND(EXP(LN($R7)-2*'Valeur de calcul'!$H$8),1) -> #NUM! | T7: =ROUND(EXP(LN($R7)-1*'Valeur de calcul'!$H$8),1) -> #NUM! | U7: =ROUND(EXP(LN($R7)+1*'Valeur de calcul'!$H$8),1) -> #NUM! | V7: =ROUND(EXP(LN($R7)+2*'Valeur de calcul'!$H$8),1) -> #NUM! | W7: =IF($H7=0," ",IF($H7<$S7,"très basse",IF($H7<$T7,"basse",IF($H7>$V7,"très élevée",IF($H7>$U7,"élevée","normal"))))) | Y7: =ROUND($J7/$K7,3) -> #NUM! | Z7: =IF(Y7=0," ",IF($Y7<EXP(-2*'Valeur de calcul'!$G$8),"très basse", IF('Prairie permanente 0-20 cm'!$Y7<EXP(-1*'Valeur de calcul'!$G$8),"basse",IF('Prairie permanente 0-20 cm'!$Y7>EXP(2*'Valeur de calcul'!$G$8),"très élevée",IF('Prairie permanente 0-20 cm'!$Y7>EXP('Valeur de calcul'!$G$8),"élevée","normal"))))) -> #NUM! | AA7: =ROUND($H7/$R7,3) -> #NUM! | AB7: =IF(AA7=0," ",IF($AA7<EXP(-2*'Valeur de calcul'!$H$8),"très basse", IF('Prairie permanente 0-20 cm'!$AA7<EXP(-1*'Valeur de calcul'!$H$8),"basse",IF('Prairie permanente 0-20 cm'!$AA7>EXP(2*'Valeur de calcul'!$H$8),"très élevée",IF('Prairie permanente 0-20 cm'!$AA7>EXP('Valeur de calcul'!$H$8),"élevée","normal"))))) -> #NUM! | AD7: =ROUND(1000*$J7/$H7,2) -> #DIV/0! | AE7: =ROUND(0.1*$H7/$B7,1) -> #DIV/0!
J8: =IF($G8>0,($G8/24)/(44/12),$F8) -> 0 | K8: =ROUND((EXP(LN($B8)*'Valeur de calcul'!$G$4+$C8*'Valeur de calcul'!$G$5+LN($D8)*'Valeur de calcul'!$G$6+LN($E8)*'Valeur de calcul'!$G$7+'Valeur de calcul'!$G$3)/24)/(44/12),3) -> #NUM! | L8: =ROUND(EXP(LN($K8)-2*'Valeur de calcul'!$G$8),3) -> #NUM! | M8: =ROUND(EXP(LN($K8)-'Valeur de calcul'!$G$8),3) -> #NUM! | N8: =ROUND(EXP(LN($K8)+'Valeur de calcul'!$G$8),3) -> #NUM! | O8: =ROUND(EXP(LN($K8)+2*'Valeur de calcul'!$G$8),3) -> #NUM! | P8: =IF($J8=0," ",IF($J8<$L8,"très basse",IF($J8<$M8,"basse",IF($J8>$O8,"très élevée",IF($J8>$N8,"élevée","normal"))))) | R8: =ROUND(EXP((LN($B8)*'Valeur de calcul'!$H$4)+($C8*'Valeur de calcul'!$H$5)+(LN($D8)*'Valeur de calcul'!$H$6)+(LN($E8)*'Valeur de calcul'!$H$7)+'Valeur de calcul'!$H$3),1) -> #NUM! | S8: =ROUND(EXP(LN($R8)-2*'Valeur de calcul'!$H$8),1) -> #NUM! | T8: =ROUND(EXP(LN($R8)-1*'Valeur de calcul'!$H$8),1) -> #NUM! | U8: =ROUND(EXP(LN($R8)+1*'Valeur de calcul'!$H$8),1) -> #NUM! | V8: =ROUND(EXP(LN($R8)+2*'Valeur de calcul'!$H$8),1) -> #NUM! | W8: =IF($H8=0," ",IF($H8<$S8,"très basse",IF($H8<$T8,"basse",IF($H8>$V8,"très élevée",IF($H8>$U8,"élevée","normal"))))) | Y8: =ROUND($J8/$K8,3) -> #NUM! | Z8: =IF(Y8=0," ",IF($Y8<EXP(-2*'Valeur de calcul'!$G$8),"très basse", IF('Prairie permanente 0-20 cm'!$Y8<EXP(-1*'Valeur de calcul'!$G$8),"basse",IF('Prairie permanente 0-20 cm'!$Y8>EXP(2*'Valeur de calcul'!$G$8),"très élevée",IF('Prairie permanente 0-20 cm'!$Y8>EXP('Valeur de calcul'!$G$8),"élevée","normal"))))) -> #NUM! | AA8: =ROUND($H8/$R8,3) -> #NUM! | AB8: =IF(AA8=0," ",IF($AA8<EXP(-2*'Valeur de calcul'!$H$8),"très basse", IF('Prairie permanente 0-20 cm'!$AA8<EXP(-1*'Valeur de calcul'!$H$8),"basse",IF('Prairie permanente 0-20 cm'!$AA8>EXP(2*'Valeur de calcul'!$H$8),"très élevée",IF('Prairie permanente 0-20 cm'!$AA8>EXP('Valeur de calcul'!$H$8),"élevée","normal"))))) -> #NUM! | AD8: =ROUND(1000*$J8/$H8,2) -> #DIV/0! | AE8: =ROUND(0.1*$H8/$B8,1) -> #DIV/0!
J9: =IF($G9>0,($G9/24)/(44/12),$F9) -> 0 | K9: =ROUND((EXP(LN($B9)*'Valeur de calcul'!$G$4+$C9*'Valeur de calcul'!$G$5+LN($D9)*'Valeur de calcul'!$G$6+LN($E9)*'Valeur de calcul'!$G$7+'Valeur de calcul'!$G$3)/24)/(44/12),3) -> #NUM! | L9: =ROUND(EXP(LN($K9)-2*'Valeur de calcul'!$G$8),3) -> #NUM! | M9: =ROUND(EXP(LN($K9)-'Valeur de calcul'!$G$8),3) -> #NUM! | N9: =ROUND(EXP(LN($K9)+'Valeur de calcul'!$G$8),3) -> #NUM! | O9: =ROUND(EXP(LN($K9)+2*'Valeur de calcul'!$G$8),3) -> #NUM! | P9: =IF($J9=0," ",IF($J9<$L9,"très basse",IF($J9<$M9,"basse",IF($J9>$O9,"très élevée",IF($J9>$N9,"élevée","normal"))))) | R9: =ROUND(EXP((LN($B9)*'Valeur de calcul'!$H$4)+($C9*'Valeur de calcul'!$H$5)+(LN($D9)*'Valeur de calcul'!$H$6)+(LN($E9)*'Valeur de calcul'!$H$7)+'Valeur de calcul'!$H$3),1) -> #NUM! | S9: =ROUND(EXP(LN($R9)-2*'Valeur de calcul'!$H$8),1) -> #NUM! | T9: =ROUND(EXP(LN($R9)-1*'Valeur de calcul'!$H$8),1) -> #NUM! | U9: =ROUND(EXP(LN($R9)+1*'Valeur de calcul'!$H$8),1) -> #NUM! | V9: =ROUND(EXP(LN($R9)+2*'Valeur de calcul'!$H$8),1) -> #NUM! | W9: =IF($H9=0," ",IF($H9<$S9,"très basse",IF($H9<$T9,"basse",IF($H9>$V9,"très élevée",IF($H9>$U9,"élevée","normal"))))) | Y9: =ROUND($J9/$K9,3) -> #NUM! | Z9: =IF(Y9=0," ",IF($Y9<EXP(-2*'Valeur de calcul'!$G$8),"très basse", IF('Prairie permanente 0-20 cm'!$Y9<EXP(-1*'Valeur de calcul'!$G$8),"basse",IF('Prairie permanente 0-20 cm'!$Y9>EXP(2*'Valeur de calcul'!$G$8),"très élevée",IF('Prairie permanente 0-20 cm'!$Y9>EXP('Valeur de calcul'!$G$8),"élevée","normal"))))) -> #NUM! | AA9: =ROUND($H9/$R9,3) -> #NUM! | AB9: =IF(AA9=0," ",IF($AA9<EXP(-2*'Valeur de calcul'!$H$8),"très basse", IF('Prairie permanente 0-20 cm'!$AA9<EXP(-1*'Valeur de calcul'!$H$8),"basse",IF('Prairie permanente 0-20 cm'!$AA9>EXP(2*'Valeur de calcul'!$H$8),"très élevée",IF('Prairie permanente 0-20 cm'!$AA9>EXP('Valeur de calcul'!$H$8),"élevée","normal"))))) -> #NUM! | AD9: =ROUND(1000*$J9/$H9,2) -> #DIV/0! | AE9: =ROUND(0.1*$H9/$B9,1) -> #DIV/0!
J10: =IF($G10>0,($G10/24)/(44/12),$F10) -> 0 | K10: =ROUND((EXP(LN($B10)*'Valeur de calcul'!$G$4+$C10*'Valeur de calcul'!$G$5+LN($D10)*'Valeur de calcul'!$G$6+LN($E10)*'Valeur de calcul'!$G$7+'Valeur de calcul'!$G$3)/24)/(44/12),3) -> #NUM! | L10: =ROUND(EXP(LN($K10)-2*'Valeur de calcul'!$G$8),3) -> #NUM! | M10: =ROUND(EXP(LN($K10)-'Valeur de calcul'!$G$8),3) -> #NUM! | N10: =ROUND(EXP(LN($K10)+'Valeur de calcul'!$G$8),3) -> #NUM! | O10: =ROUND(EXP(LN($K10)+2*'Valeur de calcul'!$G$8),3) -> #NUM! | P10: =IF($J10=0," ",IF($J10<$L10,"très basse",IF($J10<$M10,"basse",IF($J10>$O10,"très élevée",IF($J10>$N10,"élevée","normal"))))) | R10: =ROUND(EXP((LN($B10)*'Valeur de calcul'!$H$4)+($C10*'Valeur de calcul'!$H$5)+(LN($D10)*'Valeur de calcul'!$H$6)+(LN($E10)*'Valeur de calcul'!$H$7)+'Valeur de calcul'!$H$3),1) -> #NUM! | S10: =ROUND(EXP(LN($R10)-2*'Valeur de calcul'!$H$8),1) -> #NUM! | T10: =ROUND(EXP(LN($R10)-1*'Valeur de calcul'!$H$8),1) -> #NUM! | U10: =ROUND(EXP(LN($R10)+1*'Valeur de calcul'!$H$8),1) -> #NUM! | V10: =ROUND(EXP(LN($R10)+2*'Valeur de calcul'!$H$8),1) -> #NUM! | W10: =IF($H10=0," ",IF($H10<$S10,"très basse",IF($H10<$T10,"basse",IF($H10>$V10,"très élevée",IF($H10>$U10,"élevée","normal"))))) | Y10: =ROUND($J10/$K10,3) -> #NUM! | Z10: =IF(Y10=0," ",IF($Y10<EXP(-2*'Valeur de calcul'!$G$8),"très basse", IF('Prairie permanente 0-20 cm'!$Y10<EXP(-1*'Valeur de calcul'!$G$8),"basse",IF('Prairie permanente 0-20 cm'!$Y10>EXP(2*'Valeur de calcul'!$G$8),"très élevée",IF('Prairie permanente 0-20 cm'!$Y10>EXP('Valeur de calcul'!$G$8),"élevée","normal"))))) -> #NUM! | AA10: =ROUND($H10/$R10,3) -> #NUM! | AB10: =IF(AA10=0," ",IF($AA10<EXP(-2*'Valeur de calcul'!$H$8),"très basse", IF('Prairie permanente 0-20 cm'!$AA10<EXP(-1*'Valeur de calcul'!$H$8),"basse",IF('Prairie permanente 0-20 cm'!$AA10>EXP(2*'Valeur de calcul'!$H$8),"très élevée",IF('Prairie permanente 0-20 cm'!$AA10>EXP('Valeur de calcul'!$H$8),"élevée","normal"))))) -> #NUM! | AD10: =ROUND(1000*$J10/$H10,2) -> #DIV/0! | AE10: =ROUND(0.1*$H10/$B10,1) -> #DIV/0!
J11: =IF($G11>0,($G11/24)/(44/12),$F11) -> 0 | K11: =ROUND((EXP(LN($B11)*'Valeur de calcul'!$G$4+$C11*'Valeur de calcul'!$G$5+LN($D11)*'Valeur de calcul'!$G$6+LN($E11)*'Valeur de calcul'!$G$7+'Valeur de calcul'!$G$3)/24)/(44/12),3) -> #NUM! | L11: =ROUND(EXP(LN($K11)-2*'Valeur de calcul'!$G$8),3) -> #NUM! | M11: =ROUND(EXP(LN($K11)-'Valeur de calcul'!$G$8),3) -> #NUM! | N11: =ROUND(EXP(LN($K11)+'Valeur de calcul'!$G$8),3) -> #NUM! | O11: =ROUND(EXP(LN($K11)+2*'Valeur de calcul'!$G$8),3) -> #NUM! | P11: =IF($J11=0," ",IF($J11<$L11,"très basse",IF($J11<$M11,"basse",IF($J11>$O11,"très élevée",IF($J11>$N11,"élevée","normal"))))) | R11: =ROUND(EXP((LN($B11)*'Valeur de calcul'!$H$4)+($C11*'Valeur de calcul'!$H$5)+(LN($D11)*'Valeur de calcul'!$H$6)+(LN($E11)*'Valeur de calcul'!$H$7)+'Valeur de calcul'!$H$3),1) -> #NUM! | S11: =ROUND(EXP(LN($R11)-2*'Valeur de calcul'!$H$8),1) -> #NUM! | T11: =ROUND(EXP(LN($R11)-1*'Valeur de calcul'!$H$8),1) -> #NUM! | U11: =ROUND(EXP(LN($R11)+1*'Valeur de calcul'!$H$8),1) -> #NUM! | V11: =ROUND(EXP(LN($R11)+2*'Valeur de calcul'!$H$8),1) -> #NUM! | W11: =IF($H11=0," ",IF($H11<$S11,"très basse",IF($H11<$T11,"basse",IF($H11>$V11,"très élevée",IF($H11>$U11,"élevée","normal"))))) | Y11: =ROUND($J11/$K11,3) -> #NUM! | Z11: =IF(Y11=0," ",IF($Y11<EXP(-2*'Valeur de calcul'!$G$8),"très basse", IF('Prairie permanente 0-20 cm'!$Y11<EXP(-1*'Valeur de calcul'!$G$8),"basse",IF('Prairie permanente 0-20 cm'!$Y11>EXP(2*'Valeur de calcul'!$G$8),"très élevée",IF('Prairie permanente 0-20 cm'!$Y11>EXP('Valeur de calcul'!$G$8),"élevée","normal"))))) -> #NUM! | AA11: =ROUND($H11/$R11,3) -> #NUM! | AB11: =IF(AA11=0," ",IF($AA11<EXP(-2*'Valeur de calcul'!$H$8),"très basse", IF('Prairie permanente 0-20 cm'!$AA11<EXP(-1*'Valeur de calcul'!$H$8),"basse",IF('Prairie permanente 0-20 cm'!$AA11>EXP(2*'Valeur de calcul'!$H$8),"très élevée",IF('Prairie permanente 0-20 cm'!$AA11>EXP('Valeur de calcul'!$H$8),"élevée","normal"))))) -> #NUM! | AD11: =ROUND(1000*$J11/$H11,2) -> #DIV/0! | AE11: =ROUND(0.1*$H11/$B11,1) -> #DIV/0!
J12: =IF($G12>0,($G12/24)/(44/12),$F12) -> 0 | K12: =ROUND((EXP(LN($B12)*'Valeur de calcul'!$G$4+$C12*'Valeur de calcul'!$G$5+LN($D12)*'Valeur de calcul'!$G$6+LN($E12)*'Valeur de calcul'!$G$7+'Valeur de calcul'!$G$3)/24)/(44/12),3) -> #NUM! | L12: =ROUND(EXP(LN($K12)-2*'Valeur de calcul'!$G$8),3) -> #NUM! | M12: =ROUND(EXP(LN($K12)-'Valeur de calcul'!$G$8),3) -> #NUM! | N12: =ROUND(EXP(LN($K12)+'Valeur de calcul'!$G$8),3) -> #NUM! | O12: =ROUND(EXP(LN($K12)+2*'Valeur de calcul'!$G$8),3) -> #NUM! | P12: =IF($J12=0," ",IF($J12<$L12,"très basse",IF($J12<$M12,"basse",IF($J12>$O12,"très élevée",IF($J12>$N12,"élevée","normal"))))) | R12: =ROUND(EXP((LN($B12)*'Valeur de calcul'!$H$4)+($C12*'Valeur de calcul'!$H$5)+(LN($D12)*'Valeur de calcul'!$H$6)+(LN($E12)*'Valeur de calcul'!$H$7)+'Valeur de calcul'!$H$3),1) -> #NUM! | S12: =ROUND(EXP(LN($R12)-2*'Valeur de calcul'!$H$8),1) -> #NUM! | T12: =ROUND(EXP(LN($R12)-1*'Valeur de calcul'!$H$8),1) -> #NUM! | U12: =ROUND(EXP(LN($R12)+1*'Valeur de calcul'!$H$8),1) -> #NUM! | V12: =ROUND(EXP(LN($R12)+2*'Valeur de calcul'!$H$8),1) -> #NUM! | W12: =IF($H12=0," ",IF($H12<$S12,"très basse",IF($H12<$T12,"basse",IF($H12>$V12,"très élevée",IF($H12>$U12,"élevée","normal"))))) | Y12: =ROUND($J12/$K12,3) -> #NUM! | Z12: =IF(Y12=0," ",IF($Y12<EXP(-2*'Valeur de calcul'!$G$8),"très basse", IF('Prairie permanente 0-20 cm'!$Y12<EXP(-1*'Valeur de calcul'!$G$8),"basse",IF('Prairie permanente 0-20 cm'!$Y12>EXP(2*'Valeur de calcul'!$G$8),"très élevée",IF('Prairie permanente 0-20 cm'!$Y12>EXP('Valeur de calcul'!$G$8),"élevée","normal"))))) -> #NUM! | AA12: =ROUND($H12/$R12,3) -> #NUM! | AB12: =IF(AA12=0," ",IF($AA12<EXP(-2*'Valeur de calcul'!$H$8),"très basse", IF('Prairie permanente 0-20 cm'!$AA12<EXP(-1*'Valeur de calcul'!$H$8),"basse",IF('Prairie permanente 0-20 cm'!$AA12>EXP(2*'Valeur de calcul'!$H$8),"très élevée",IF('Prairie permanente 0-20 cm'!$AA12>EXP('Valeur de calcul'!$H$8),"élevée","normal"))))) -> #NUM! | AD12: =ROUND(1000*$J12/$H12,2) -> #DIV/0! | AE12: =ROUND(0.1*$H12/$B12,1) -> #DIV/0!
J13: =IF($G13>0,($G13/24)/(44/12),$F13) -> 0 | K13: =ROUND((EXP(LN($B13)*'Valeur de calcul'!$G$4+$C13*'Valeur de calcul'!$G$5+LN($D13)*'Valeur de calcul'!$G$6+LN($E13)*'Valeur de calcul'!$G$7+'Valeur de calcul'!$G$3)/24)/(44/12),3) -> #NUM! | L13: =ROUND(EXP(LN($K13)-2*'Valeur de calcul'!$G$8),3) -> #NUM! | M13: =ROUND(EXP(LN($K13)-'Valeur de calcul'!$G$8),3) -> #NUM! | N13: =ROUND(EXP(LN($K13)+'Valeur de calcul'!$G$8),3) -> #NUM! | O13: =ROUND(EXP(LN($K13)+2*'Valeur de calcul'!$G$8),3) -> #NUM! | P13: =IF($J13=0," ",IF($J13<$L13,"très basse",IF($J13<$M13,"basse",IF($J13>$O13,"très élevée",IF($J13>$N13,"élevée","normal"))))) | R13: =ROUND(EXP((LN($B13)*'Valeur de calcul'!$H$4)+($C13*'Valeur de calcul'!$H$5)+(LN($D13)*'Valeur de calcul'!$H$6)+(LN($E13)*'Valeur de calcul'!$H$7)+'Valeur de calcul'!$H$3),1) -> #NUM! | S13: =ROUND(EXP(LN($R13)-2*'Valeur de calcul'!$H$8),1) -> #NUM! | T13: =ROUND(EXP(LN($R13)-1*'Valeur de calcul'!$H$8),1) -> #NUM! | U13: =ROUND(EXP(LN($R13)+1*'Valeur de calcul'!$H$8),1) -> #NUM! | V13: =ROUND(EXP(LN($R13)+2*'Valeur de calcul'!$H$8),1) -> #NUM! | W13: =IF($H13=0," ",IF($H13<$S13,"très basse",IF($H13<$T13,"basse",IF($H13>$V13,"très élevée",IF($H13>$U13,"élevée","normal"))))) | Y13: =ROUND($J13/$K13,3) -> #NUM! | Z13: =IF(Y13=0," ",IF($Y13<EXP(-2*'Valeur de calcul'!$G$8),"très basse", IF('Prairie permanente 0-20 cm'!$Y13<EXP(-1*'Valeur de calcul'!$G$8),"basse",IF('Prairie permanente 0-20 cm'!$Y13>EXP(2*'Valeur de calcul'!$G$8),"très élevée",IF('Prairie permanente 0-20 cm'!$Y13>EXP('Valeur de calcul'!$G$8),"élevée","normal"))))) -> #NUM! | AA13: =ROUND($H13/$R13,3) -> #NUM! | AB13: =IF(AA13=0," ",IF($AA13<EXP(-2*'Valeur de calcul'!$H$8),"très basse", IF('Prairie permanente 0-20 cm'!$AA13<EXP(-1*'Valeur de calcul'!$H$8),"basse",IF('Prairie permanente 0-20 cm'!$AA13>EXP(2*'Valeur de calcul'!$H$8),"très élevée",IF('Prairie permanente 0-20 cm'!$AA13>EXP('Valeur de calcul'!$H$8),"élevée","normal"))))) -> #NUM! | AD13: =ROUND(1000*$J13/$H13,2) -> #DIV/0! | AE13: =ROUND(0.1*$H13/$B13,1) -> #DIV/0!
J14: =IF($G14>0,($G14/24)/(44/12),$F14) -> 0 | K14: =ROUND((EXP(LN($B14)*'Valeur de calcul'!$G$4+$C14*'Valeur de calcul'!$G$5+LN($D14)*'Valeur de calcul'!$G$6+LN($E14)*'Valeur de calcul'!$G$7+'Valeur de calcul'!$G$3)/24)/(44/12),3) -> #NUM! | L14: =ROUND(EXP(LN($K14)-2*'Valeur de calcul'!$G$8),3) -> #NUM! | M14: =ROUND(EXP(LN($K14)-'Valeur de calcul'!$G$8),3) -> #NUM! | N14: =ROUND(EXP(LN($K14)+'Valeur de calcul'!$G$8),3) -> #NUM! | O14: =ROUND(EXP(LN($K14)+2*'Valeur de calcul'!$G$8),3) -> #NUM! | P14: =IF($J14=0," ",IF($J14<$L14,"très basse",IF($J14<$M14,"basse",IF($J14>$O14,"très élevée",IF($J14>$N14,"élevée","normal"))))) | R14: =ROUND(EXP((LN($B14)*'Valeur de calcul'!$H$4)+($C14*'Valeur de calcul'!$H$5)+(LN($D14)*'Valeur de calcul'!$H$6)+(LN($E14)*'Valeur de calcul'!$H$7)+'Valeur de calcul'!$H$3),1) -> #NUM! | S14: =ROUND(EXP(LN($R14)-2*'Valeur de calcul'!$H$8),1) -> #NUM! | T14: =ROUND(EXP(LN($R14)-1*'Valeur de calcul'!$H$8),1) -> #NUM! | U14: =ROUND(EXP(LN($R14)+1*'Valeur de calcul'!$H$8),1) -> #NUM! | V14: =ROUND(EXP(LN($R14)+2*'Valeur de calcul'!$H$8),1) -> #NUM! | W14: =IF($H14=0," ",IF($H14<$S14,"très basse",IF($H14<$T14,"basse",IF($H14>$V14,"très élevée",IF($H14>$U14,"élevée","normal"))))) | Y14: =ROUND($J14/$K14,3) -> #NUM! | Z14: =IF(Y14=0," ",IF($Y14<EXP(-2*'Valeur de calcul'!$G$8),"très basse", IF('Prairie permanente 0-20 cm'!$Y14<EXP(-1*'Valeur de calcul'!$G$8),"basse",IF('Prairie permanente 0-20 cm'!$Y14>EXP(2*'Valeur de calcul'!$G$8),"très élevée",IF('Prairie permanente 0-20 cm'!$Y14>EXP('Valeur de calcul'!$G$8),"élevée","normal"))))) -> #NUM! | AA14: =ROUND($H14/$R14,3) -> #NUM! | AB14: =IF(AA14=0," ",IF($AA14<EXP(-2*'Valeur de calcul'!$H$8),"très basse", IF('Prairie permanente 0-20 cm'!$AA14<EXP(-1*'Valeur de calcul'!$H$8),"basse",IF('Prairie permanente 0-20 cm'!$AA14>EXP(2*'Valeur de calcul'!$H$8),"très élevée",IF('Prairie permanente 0-20 cm'!$AA14>EXP('Valeur de calcul'!$H$8),"élevée","normal"))))) -> #NUM! | AD14: =ROUND(1000*$J14/$H14,2) -> #DIV/0! | AE14: =ROUND(0.1*$H14/$B14,1) -> #DIV/0!
J15: =IF($G15>0,($G15/24)/(44/12),$F15) -> 0 | K15: =ROUND((EXP(LN($B15)*'Valeur de calcul'!$G$4+$C15*'Valeur de calcul'!$G$5+LN($D15)*'Valeur de calcul'!$G$6+LN($E15)*'Valeur de calcul'!$G$7+'Valeur de calcul'!$G$3)/24)/(44/12),3) -> #NUM! | L15: =ROUND(EXP(LN($K15)-2*'Valeur de calcul'!$G$8),3) -> #NUM! | M15: =ROUND(EXP(LN($K15)-'Valeur de calcul'!$G$8),3) -> #NUM! | N15: =ROUND(EXP(LN($K15)+'Valeur de calcul'!$G$8),3) -> #NUM! | O15: =ROUND(EXP(LN($K15)+2*'Valeur de calcul'!$G$8),3) -> #NUM! | P15: =IF($J15=0," ",IF($J15<$L15,"très basse",IF($J15<$M15,"basse",IF($J15>$O15,"très élevée",IF($J15>$N15,"élevée","normal"))))) | R15: =ROUND(EXP((LN($B15)*'Valeur de calcul'!$H$4)+($C15*'Valeur de calcul'!$H$5)+(LN($D15)*'Valeur de calcul'!$H$6)+(LN($E15)*'Valeur de calcul'!$H$7)+'Valeur de calcul'!$H$3),1) -> #NUM! | S15: =ROUND(EXP(LN($R15)-2*'Valeur de calcul'!$H$8),1) -> #NUM! | T15: =ROUND(EXP(LN($R15)-1*'Valeur de calcul'!$H$8),1) -> #NUM! | U15: =ROUND(EXP(LN($R15)+1*'Valeur de calcul'!$H$8),1) -> #NUM! | V15: =ROUND(EXP(LN($R15)+2*'Valeur de calcul'!$H$8),1) -> #NUM! | W15: =IF($H15=0," ",IF($H15<$S15,"très basse",IF($H15<$T15,"basse",IF($H15>$V15,"très élevée",IF($H15>$U15,"élevée","normal"))))) | Y15: =ROUND($J15/$K15,3) -> #NUM! | Z15: =IF(Y15=0," ",IF($Y15<EXP(-2*'Valeur de calcul'!$G$8),"très basse", IF('Prairie permanente 0-20 cm'!$Y15<EXP(-1*'Valeur de calcul'!$G$8),"basse",IF('Prairie permanente 0-20 cm'!$Y15>EXP(2*'Valeur de calcul'!$G$8),"très élevée",IF('Prairie permanente 0-20 cm'!$Y15>EXP('Valeur de calcul'!$G$8),"élevée","normal"))))) -> #NUM! | AA15: =ROUND($H15/$R15,3) -> #NUM! | AB15: =IF(AA15=0," ",IF($AA15<EXP(-2*'Valeur de calcul'!$H$8),"très basse", IF('Prairie permanente 0-20 cm'!$AA15<EXP(-1*'Valeur de calcul'!$H$8),"basse",IF('Prairie permanente 0-20 cm'!$AA15>EXP(2*'Valeur de calcul'!$H$8),"très élevée",IF('Prairie permanente 0-20 cm'!$AA15>EXP('Valeur de calcul'!$H$8),"élevée","normal"))))) -> #NUM! | AD15: =ROUND(1000*$J15/$H15,2) -> #DIV/0! | AE15: =ROUND(0.1*$H15/$B15,1) -> #DIV/0!
... J200: =IF($G200>0,($G200/24)/(44/12),$F200) -> 0 | K200: =ROUND((EXP(LN($B200)*'Valeur de calcul'!$G$4+$C200*'Valeur de calcul'!$G$5+LN($D200)*'Valeur de calcul'!$G$6+LN($E200)*'Valeur de calcul'!$G$7+'Valeur de calcul'!$G$3)/24)/(44/12),3) -> #NUM! | L200: =ROUND(EXP(LN($K200)-2*'Valeur de calcul'!$G$8),3) -> #NUM! | M200: =ROUND(EXP(LN($K200)-'Valeur de calcul'!$G$8),3) -> #NUM! | N200: =ROUND(EXP(LN($K200)+'Valeur de calcul'!$G$8),3) -> #NUM! | O200: =ROUND(EXP(LN($K200)+2*'Valeur de calcul'!$G$8),3) -> #NUM! | P200: =IF($J200=0," ",IF($J200<$L200,"très basse",IF($J200<$M200,"basse",IF($J200>$O200,"très élevée",IF($J200>$N200,"élevée","normal"))))) | R200: =ROUND(EXP((LN($B200)*'Valeur de calcul'!$H$4)+($C200*'Valeur de calcul'!$H$5)+(LN($D200)*'Valeur de calcul'!$H$6)+(LN($E200)*'Valeur de calcul'!$H$7)+'Valeur de calcul'!$H$3),1) -> #NUM! | S200: =ROUND(EXP(LN($R200)-2*'Valeur de calcul'!$H$8),1) -> #NUM! | T200: =ROUND(EXP(LN($R200)-1*'Valeur de calcul'!$H$8),1) -> #NUM! | U200: =ROUND(EXP(LN($R200)+1*'Valeur de calcul'!$H$8),1) -> #NUM! | V200: =ROUND(EXP(LN($R200)+2*'Valeur de calcul'!$H$8),1) -> #NUM! | W200: =IF($H200=0," ",IF($H200<$S200,"très basse",IF($H200<$T200,"basse",IF($H200>$V200,"très élevée",IF($H200>$U200,"élevée","normal"))))) | Y200: =ROUND($J200/$K200,3) -> #NUM! | Z200: =IF(Y200=0," ",IF($Y200<EXP(-2*'Valeur de calcul'!$G$8),"très basse", IF('Prairie permanente 0-20 cm'!$Y200<EXP(-1*'Valeur de calcul'!$G$8),"basse",IF('Prairie permanente 0-20 cm'!$Y200>EXP(2*'Valeur de calcul'!$G$8),"très élevée",IF('Prairie permanente 0-20 cm'!$Y200>EXP('Valeur de calcul'!$G$8),"élevée","normal"))))) -> #NUM! | AA200: =ROUND($H200/$R200,3) -> #NUM! | AB200: =IF(AA200=0," ",IF($AA200<EXP(-2*'Valeur de calcul'!$H$8),"très basse", IF('Prairie permanente 0-20 cm'!$AA200<EXP(-1*'Valeur de calcul'!$H$8),"basse",IF('Prairie permanente 0-20 cm'!$AA200>EXP(2*'Valeur de calcul'!$H$8),"très élevée",IF('Prairie permanente 0-20 cm'!$AA200>EXP('Valeur de calcul'!$H$8),"élevée","normal"))))) -> #NUM! | AD200: =ROUND(1000*$J200/$H200,2) -> #DIV/0! | AE200: =ROUND(0.1*$H200/$B200,1) -> #DIV/0!

Sheet Valeur de calcul
B1: Terre assolée 0-20 cm | G1: Prairie permanente 0-20 cm | J1: Version 1, 14.03.2025
A2: Valeurs de calcul | B2: Respiration basale | C2: Biomasse | G2: Respiration basale | H2: Biomasse
A3: Segment d'axe | B3: 2.697 | C3: 4.7 | F3: Segment d'axe | G3: 1.748 | H3: 1.7448
A4: a*ln(Corg) | B4: 0.625 | C4: 0.963 | F4: a*ln(Corg) | G4: 0.9176 | H4: 1.046
A5: b*pH | B5: 0.199 | C5: 0.0637 | F5: b*pH | G5: 0.1172 | H5: 0.0188
A6: c*ln(Ton) | B6: =-1*0.146 -> -0.146 | C6: 0.21 | F6: c*ln(Ton) | G6: 0.0329 | H6: 0.6574
A7: d*(Sand) | B7: =-1*0.0009 -> -0.0009 | C7: 0.0008 | F7: d*ln(Sand) | G7: 0.2989 | H7: 0.5879
A8: seest | B8: 0.201 | C8: 0.2054 | F8: seest | G8: 0.2689 | H8: 0.2101
A10: Aide au travail pour le recensement et l'évaluation de paramètres biologiques du sol (VBBio/BioSA (Hrsg.), 2025)
